BEGIN:VCALENDAR
VERSION:2.0
PRODID:-//Wildflower Vegan Café - ECPv6.15.20//NONSGML v1.0//EN
CALSCALE:GREGORIAN
METHOD:PUBLISH
X-ORIGINAL-URL:https://www.wildflowervegan.com
X-WR-CALDESC:Events for Wildflower Vegan Café
REFRESH-INTERVAL;VALUE=DURATION:PT1H
X-Robots-Tag:noindex
X-PUBLISHED-TTL:PT1H
BEGIN:VTIMEZONE
TZID:America/New_York
BEGIN:DAYLIGHT
TZOFFSETFROM:-0500
TZOFFSETTO:-0400
TZNAME:EDT
DTSTART:20240310T070000
END:DAYLIGHT
BEGIN:STANDARD
TZOFFSETFROM:-0400
TZOFFSETTO:-0500
TZNAME:EST
DTSTART:20241103T060000
END:STANDARD
BEGIN:DAYLIGHT
TZOFFSETFROM:-0500
TZOFFSETTO:-0400
TZNAME:EDT
DTSTART:20250309T070000
END:DAYLIGHT
BEGIN:STANDARD
TZOFFSETFROM:-0400
TZOFFSETTO:-0500
TZNAME:EST
DTSTART:20251102T060000
END:STANDARD
BEGIN:DAYLIGHT
TZOFFSETFROM:-0500
TZOFFSETTO:-0400
TZNAME:EDT
DTSTART:20260308T070000
END:DAYLIGHT
BEGIN:STANDARD
TZOFFSETFROM:-0400
TZOFFSETTO:-0500
TZNAME:EST
DTSTART:20261101T060000
END:STANDARD
END:VTIMEZONE
BEGIN:VEVENT
DTSTART;TZID=America/New_York:20251002T163000
DTEND;TZID=America/New_York:20251002T200000
DTSTAMP:20260419T125508
CREATED:20251001T030251Z
LAST-MODIFIED:20251001T030251Z
UID:11324-1759422600-1759435200@www.wildflowervegan.com
SUMMARY:Dinner Cruise on the Delaware
DESCRIPTION:American Vegan Society\n\n\n\nReserve your spot! Everyone is invited to celebrate! Enjoy the sunset over Philadelphia while you cruise the Delaware River and dine on a fully vegan buffet! Guests can dance into the evening while celebrating Freya’s retirement from her role as president of American Vegan Society. This event is sponsored by World Vegan Vision \, NJveg \, Plant-based Prevention Of Disease National Conference\, and Revolution Philadelphia. Visit the link below to buy tickets!\n\n\n\n\nhttps://americanvegan.org/dinner-cruise-on-the-delaware…/  \nSee less
URL:https://www.wildflowervegan.com/event/dinner-cruise-on-the-delaware/
LOCATION:NJ
ATTACH;FMTTYPE=image/jpeg:https://www.wildflowervegan.com/wp-content/uploads/2025/09/555509489_1360253652713214_8302328014947957273_n.jpg
END:VEVENT
BEGIN:VEVENT
DTSTART;TZID=America/New_York:20251005T120000
DTEND;TZID=America/New_York:20251005T170000
DTSTAMP:20260419T125508
CREATED:20251001T023614Z
LAST-MODIFIED:20251001T025806Z
UID:11311-1759665600-1759683600@www.wildflowervegan.com
SUMMARY:Vegan in NJ Monthly Market
DESCRIPTION:Follow the market on Instagram. \n​ \nAll markets are on a Sunday from 12-5 and located inside and outside the American Legion #346 at 21 Gully Rd\, Neptune\, NJ 07753 unless otherwise mentioned.
URL:https://www.wildflowervegan.com/event/vegan-in-nj-monthly-market/
LOCATION:Vegan in NJ Monthly Market\, 21 Gully Rd\, Neptune Township\, NJ\, 07753\, United States
ATTACH;FMTTYPE=image/jpeg:https://www.wildflowervegan.com/wp-content/uploads/2025/09/548019292_1280118524155210_5064256452909999161_n.jpg
END:VEVENT
BEGIN:VEVENT
DTSTART;TZID=America/New_York:20251011T100000
DTEND;TZID=America/New_York:20251011T160000
DTSTAMP:20260419T125508
CREATED:20251001T024806Z
LAST-MODIFIED:20251001T024806Z
UID:11315-1760176800-1760198400@www.wildflowervegan.com
SUMMARY:Freedom Farm 5th Annual Fall Festival Fundraiser
DESCRIPTION:Freedom Farm Animal Rescue\n\n\n\n\n\n\n\n\n\n\n\n\n\n\n\n\n\n Join Us for Our 5th Annual Fall Festival Fundraiser! \n\n\n Saturday\, October 11th\n 10 AM – 4 PM\n 229 Newport Rd\, Cedarville NJ 08311\n\n\nIt’s that time of year again—our most anticipated event of the year—and we can’t wait to welcome you back for a day full of fun\, friends\, and fall festivities—all while supporting a great cause! \n\n\n What to Expect:\n Music\n Delicious Food\n Local Vendors\n Pumpkin Painting & Face Painting\n Wagon Rides\n Basket Raffle\n Special Guests: Other local rescues with adoptable pets looking for forever homes!\n Tour our 43-acre sanctuary and see the heart of what we do\n Grab your Freedom Farm merch to show your support in style!\n\n\n Important Info:\nBecause our farm is in a rural area\, cell reception isn’t always reliable. That means electronic payments (like credit cards or Venmo) may not always go through\, so please bring cash just in case!\n\n\n Pet Policy:\nWe absolutely love animals—but for everyone’s safety and comfort\, please leave your own fur babies at home. \n\n\nCome celebrate the season\, support rescue efforts\, tour the sanctuary\, and make memories with us. We can’t wait to see you there!
URL:https://www.wildflowervegan.com/event/freedom-farm-5th-annual-fall-festival-fundraiser/
LOCATION:Freedom Farm Animal Rescue\, 229 Newport Rd\, Cedarville\, NJ\, 08311\, United States
ATTACH;FMTTYPE=image/jpeg:https://www.wildflowervegan.com/wp-content/uploads/2025/09/547690702_800665485850384_4247659104736106730_n.jpg
END:VEVENT
END:VCALENDAR