BEGIN:VCALENDAR
VERSION:2.0
PRODID:-//Wildflower Vegan Café - ECPv6.15.20//NONSGML v1.0//EN
CALSCALE:GREGORIAN
METHOD:PUBLISH
X-ORIGINAL-URL:https://www.wildflowervegan.com
X-WR-CALDESC:Events for Wildflower Vegan Café
REFRESH-INTERVAL;VALUE=DURATION:PT1H
X-Robots-Tag:noindex
X-PUBLISHED-TTL:PT1H
BEGIN:VTIMEZONE
TZID:America/New_York
BEGIN:DAYLIGHT
TZOFFSETFROM:-0500
TZOFFSETTO:-0400
TZNAME:EDT
DTSTART:20240310T070000
END:DAYLIGHT
BEGIN:STANDARD
TZOFFSETFROM:-0400
TZOFFSETTO:-0500
TZNAME:EST
DTSTART:20241103T060000
END:STANDARD
BEGIN:DAYLIGHT
TZOFFSETFROM:-0500
TZOFFSETTO:-0400
TZNAME:EDT
DTSTART:20250309T070000
END:DAYLIGHT
BEGIN:STANDARD
TZOFFSETFROM:-0400
TZOFFSETTO:-0500
TZNAME:EST
DTSTART:20251102T060000
END:STANDARD
BEGIN:DAYLIGHT
TZOFFSETFROM:-0500
TZOFFSETTO:-0400
TZNAME:EDT
DTSTART:20260308T070000
END:DAYLIGHT
BEGIN:STANDARD
TZOFFSETFROM:-0400
TZOFFSETTO:-0500
TZNAME:EST
DTSTART:20261101T060000
END:STANDARD
END:VTIMEZONE
BEGIN:VEVENT
DTSTART;TZID=America/New_York:20250802T170000
DTEND;TZID=America/New_York:20250802T200000
DTSTAMP:20260419T090949
CREATED:20250802T144248Z
LAST-MODIFIED:20250802T144248Z
UID:11239-1754154000-1754164800@www.wildflowervegan.com
SUMMARY:Live Music with Mickey Cohen
DESCRIPTION:A night of music\, comedy\, and magic!
URL:https://www.wildflowervegan.com/event/live-music-with-mickey-cohen/
LOCATION:Wildflower Vegan Cafe\, 501 N. High St.\, Millville\, NJ\, 08332\, United States
ATTACH;FMTTYPE=image/jpeg:https://www.wildflowervegan.com/wp-content/uploads/2025/08/WILDFLOWEmusic.jpg
END:VEVENT
BEGIN:VEVENT
DTSTART;TZID=America/New_York:20250809T173000
DTEND;TZID=America/New_York:20250809T183000
DTSTAMP:20260419T090949
CREATED:20250808T163848Z
LAST-MODIFIED:20250808T163848Z
UID:11243-1754760600-1754764200@www.wildflowervegan.com
SUMMARY:Live Music by Marlene Howell
DESCRIPTION:Instagram
URL:https://www.wildflowervegan.com/event/live-music-by-marlene-howell-5/
LOCATION:Wildflower Vegan Cafe\, 501 N. High St.\, Millville\, NJ\, 08332\, United States
ATTACH;FMTTYPE=image/jpeg:https://www.wildflowervegan.com/wp-content/uploads/2025/08/518381903_1260510852752629_1701651632236360670_n.jpg
END:VEVENT
BEGIN:VEVENT
DTSTART;TZID=America/New_York:20250830T110000
DTEND;TZID=America/New_York:20250830T160000
DTSTAMP:20260419T090949
CREATED:20250409T184146Z
LAST-MODIFIED:20250409T184146Z
UID:11164-1756551600-1756569600@www.wildflowervegan.com
SUMMARY:Holly City Fest
DESCRIPTION:For more information or vendor registration\, call 856-825-7000 x7394
URL:https://www.wildflowervegan.com/event/holly-city-fest/
LOCATION:NJ
ATTACH;FMTTYPE=image/jpeg:https://www.wildflowervegan.com/wp-content/uploads/2025/04/489768315_10171082457760029_2439007896260291553_n.jpg
END:VEVENT
END:VCALENDAR