BEGIN:VCALENDAR
VERSION:2.0
PRODID:-//Wildflower Vegan Café - ECPv6.15.20//NONSGML v1.0//EN
CALSCALE:GREGORIAN
METHOD:PUBLISH
X-WR-CALNAME:Wildflower Vegan Café
X-ORIGINAL-URL:https://www.wildflowervegan.com
X-WR-CALDESC:Events for Wildflower Vegan Café
REFRESH-INTERVAL;VALUE=DURATION:PT1H
X-Robots-Tag:noindex
X-PUBLISHED-TTL:PT1H
BEGIN:VTIMEZONE
TZID:America/New_York
BEGIN:DAYLIGHT
TZOFFSETFROM:-0500
TZOFFSETTO:-0400
TZNAME:EDT
DTSTART:20240310T070000
END:DAYLIGHT
BEGIN:STANDARD
TZOFFSETFROM:-0400
TZOFFSETTO:-0500
TZNAME:EST
DTSTART:20241103T060000
END:STANDARD
BEGIN:DAYLIGHT
TZOFFSETFROM:-0500
TZOFFSETTO:-0400
TZNAME:EDT
DTSTART:20250309T070000
END:DAYLIGHT
BEGIN:STANDARD
TZOFFSETFROM:-0400
TZOFFSETTO:-0500
TZNAME:EST
DTSTART:20251102T060000
END:STANDARD
BEGIN:DAYLIGHT
TZOFFSETFROM:-0500
TZOFFSETTO:-0400
TZNAME:EDT
DTSTART:20260308T070000
END:DAYLIGHT
BEGIN:STANDARD
TZOFFSETFROM:-0400
TZOFFSETTO:-0500
TZNAME:EST
DTSTART:20261101T060000
END:STANDARD
END:VTIMEZONE
BEGIN:VEVENT
DTSTART;TZID=America/New_York:20251206T170000
DTEND;TZID=America/New_York:20251206T183000
DTSTAMP:20260419T155909
CREATED:20251203T013316Z
LAST-MODIFIED:20251203T013316Z
UID:11374-1765040400-1765045800@www.wildflowervegan.com
SUMMARY:Live Music by Marlene Howell and Lisa Melian
DESCRIPTION:
URL:https://www.wildflowervegan.com/event/live-music-by-marlene-howell-and-lisa-melian/
LOCATION:Wildflower Vegan Cafe\, 501 N. High St.\, Millville\, NJ\, 08332\, United States
ATTACH;FMTTYPE=image/jpeg:https://www.wildflowervegan.com/wp-content/uploads/2025/12/473377007_1299851554625489_5726304363780076417_n-1.jpg
END:VEVENT
BEGIN:VEVENT
DTSTART;TZID=America/New_York:20251213T160000
DTEND;TZID=America/New_York:20251213T190000
DTSTAMP:20260419T155909
CREATED:20251207T033443Z
LAST-MODIFIED:20251207T033443Z
UID:11385-1765641600-1765652400@www.wildflowervegan.com
SUMMARY:Live Music
DESCRIPTION:
URL:https://www.wildflowervegan.com/event/live-music-10/
LOCATION:Wildflower Vegan Cafe\, 501 N. High St.\, Millville\, NJ\, 08332\, United States
END:VEVENT
END:VCALENDAR