BEGIN:VCALENDAR
VERSION:2.0
PRODID:-//Wildflower Vegan Café - ECPv6.15.20//NONSGML v1.0//EN
CALSCALE:GREGORIAN
METHOD:PUBLISH
X-WR-CALNAME:Wildflower Vegan Café
X-ORIGINAL-URL:https://www.wildflowervegan.com
X-WR-CALDESC:Events for Wildflower Vegan Café
REFRESH-INTERVAL;VALUE=DURATION:PT1H
X-Robots-Tag:noindex
X-PUBLISHED-TTL:PT1H
BEGIN:VTIMEZONE
TZID:America/New_York
BEGIN:DAYLIGHT
TZOFFSETFROM:-0500
TZOFFSETTO:-0400
TZNAME:EDT
DTSTART:20240310T070000
END:DAYLIGHT
BEGIN:STANDARD
TZOFFSETFROM:-0400
TZOFFSETTO:-0500
TZNAME:EST
DTSTART:20241103T060000
END:STANDARD
BEGIN:DAYLIGHT
TZOFFSETFROM:-0500
TZOFFSETTO:-0400
TZNAME:EDT
DTSTART:20250309T070000
END:DAYLIGHT
BEGIN:STANDARD
TZOFFSETFROM:-0400
TZOFFSETTO:-0500
TZNAME:EST
DTSTART:20251102T060000
END:STANDARD
BEGIN:DAYLIGHT
TZOFFSETFROM:-0500
TZOFFSETTO:-0400
TZNAME:EDT
DTSTART:20260308T070000
END:DAYLIGHT
BEGIN:STANDARD
TZOFFSETFROM:-0400
TZOFFSETTO:-0500
TZNAME:EST
DTSTART:20261101T060000
END:STANDARD
END:VTIMEZONE
BEGIN:VEVENT
DTSTART;TZID=America/New_York:20250919T190000
DTEND;TZID=America/New_York:20250920T200000
DTSTAMP:20260419T114601
CREATED:20250905T010324Z
LAST-MODIFIED:20250905T010324Z
UID:11275-1758308400-1758398400@www.wildflowervegan.com
SUMMARY:CUT International Short Film Festival
DESCRIPTION:CUT International Short Film Festival is the premier festival in New Jersey for short form films. Located in a colonial-era enclave established in the early part of the 18th century\, the city of Millville hosts a proper main drag known as High Street. Featuring a beautiful\, old theater\, bars\, restaurants\, coffee shops and book stores\, art galleries and barber shops\, Millville harkens back to different time in the American experience. \n\n\nCUT was founded to celebrate storytelling in the medium of motion pictures\, but limited to short stories. The short film\, like the documentary\, has become a great way for a larger group of people to tell their stories. Not reliant on huge budgets\, or massive crews\, a small group of talented creatives can craft a tale of resonance and authenticity. Our goal is to celebrate those stories\, and give them a venue to shine.
URL:https://www.wildflowervegan.com/event/cut-international-short-film-festival/
LOCATION:Levoy Theater\, 126-130 N High St\, Millville\, NJ 08332\, Millville\, NJ\, 08332\, United States
ATTACH;FMTTYPE=image/jpeg:https://www.wildflowervegan.com/wp-content/uploads/2025/09/1744300518-2-CUT-poster-2025-4.jpg
END:VEVENT
END:VCALENDAR