BEGIN:VCALENDAR
VERSION:2.0
PRODID:-//Wildflower Vegan Café - ECPv6.15.20//NONSGML v1.0//EN
CALSCALE:GREGORIAN
METHOD:PUBLISH
X-WR-CALNAME:Wildflower Vegan Café
X-ORIGINAL-URL:https://www.wildflowervegan.com
X-WR-CALDESC:Events for Wildflower Vegan Café
REFRESH-INTERVAL;VALUE=DURATION:PT1H
X-Robots-Tag:noindex
X-PUBLISHED-TTL:PT1H
BEGIN:VTIMEZONE
TZID:America/New_York
BEGIN:DAYLIGHT
TZOFFSETFROM:-0500
TZOFFSETTO:-0400
TZNAME:EDT
DTSTART:20240310T070000
END:DAYLIGHT
BEGIN:STANDARD
TZOFFSETFROM:-0400
TZOFFSETTO:-0500
TZNAME:EST
DTSTART:20241103T060000
END:STANDARD
BEGIN:DAYLIGHT
TZOFFSETFROM:-0500
TZOFFSETTO:-0400
TZNAME:EDT
DTSTART:20250309T070000
END:DAYLIGHT
BEGIN:STANDARD
TZOFFSETFROM:-0400
TZOFFSETTO:-0500
TZNAME:EST
DTSTART:20251102T060000
END:STANDARD
BEGIN:DAYLIGHT
TZOFFSETFROM:-0500
TZOFFSETTO:-0400
TZNAME:EDT
DTSTART:20260308T070000
END:DAYLIGHT
BEGIN:STANDARD
TZOFFSETFROM:-0400
TZOFFSETTO:-0500
TZNAME:EST
DTSTART:20261101T060000
END:STANDARD
END:VTIMEZONE
BEGIN:VEVENT
DTSTART;TZID=America/New_York:20250913T100000
DTEND;TZID=America/New_York:20250913T160000
DTSTAMP:20260419T131018
CREATED:20250905T011442Z
LAST-MODIFIED:20250905T011442Z
UID:11281-1757757600-1757779200@www.wildflowervegan.com
SUMMARY:Mauricetown Riverfest
DESCRIPTION:Mauriceriver Fest\nFormerly Cumberland County Artists’ Day \n\nA celebration of art\, history\, nature\, music and culture. \n1229 Front Street\, Mauricetown\, NJ\nSaturday\, September 13\, 2025 10 am – 4 pm\nRain or Shine \nFree Admission \nCome Join us for Mauricetown Riverfest!\nArtists\, live music by the Snake Brothers\, food and local garden tours! \nFor more information call 856-785-1372 or 856-453-2175 \nEmail Us: mauricetownhistorical@yahoo.com \n\nWHATMauricetown RiverFest: The Secret Gardens of Mauricetown\nWHENSaturday\, September 13\, 2025\, 10:00 a.m.-4:00 p.m.\nWHEREMauricetown Historical Society1229 Front StreetMauricetown\, NJ 08329\nCU Maurice River has partnered with the Cumberland County Cultural & Heritage Commission and the Mauricetown Historical Society to offer live music\, a garden tour\, speaker\, fine arts and crafts\, vendors\, hands-on activities for kids\, and delicious food at the Mauricetown RiverFest on Saturday\, September 13th from 10:00 a.m. – 4:00 p.m. Admission is free! During the Mauricetown RiverFest\, 18 artists will be set up around the village using the landscape and local architecture as an inspiration to create works of art. Visitors can even purchase their work!\nRiverFest Scheduled Events\n11:00 a.m.-12:00 p.m.Secret Gardens of Mauricetown Walking TourLed by Bob Moore of the Mauricetown Historical SocietyMeet in front of the Hoy House (at 1229 Front St.)\n1:00 p.m.-2:00 p.m.Presentation “How to Get Started in Native Plant Gardening”by Joe Kiefer from Triple Oaks Nursery & Herb Gardenat the Mauricetown United Methodist Church9571 Noble St.\nSign up for one or both of these events here:https://lp.constantcontactpages.com/ev/reg/xe8p8rr\nRegistration is not required to attend but helps us know how many to expect.\n2:00 p.m.-2:30 p.m.Help Plant a Native Garden at the Hoy HouseCU Maurice River is helping the Mauricetown Historical Society add a native plant garden to the area around the Hoy House. Join us for a demonstration and explanation of the plants that were chosen and help us get the garden started by adding in one of the plants! No experience necessary.\nHappening throughout the day:\n11:00-4:00 p.m. Music by Train Wreck\, Jim Albertson\, Steve Byrne\, and Joe Kille\n11:00 a.m.-4:00 p.m. Marine Police\, Bivalve Station\, at the Mauricetown Riverside Park\nWildflower Vegan Cafe and the Mauricetown Historical Society will be selling delicious food and baked goods.\nVendors & Participating Organizations:Triple Oaks Nursery & Herb GardenThe Great Full GardenKumarie’s Garden MarketBridgeton Public LibraryCU Maurice RiverSouth Jersey Land & Water TrustBayshore Center at BivalveCumberland CountyClay College \n\n\n\n\nMauricetown\, New Jersey
URL:https://www.wildflowervegan.com/event/mauricetown-riverfest/
LOCATION:1229 Front Street\, Mauricetown NJ\, 1229 Front Street\, Mauricetown\, NJ\, 08329\, United States
ATTACH;FMTTYPE=image/jpeg:https://www.wildflowervegan.com/wp-content/uploads/2025/09/544388789_1217588980405356_4006463330196461145_n.jpg
END:VEVENT
BEGIN:VEVENT
DTSTART;TZID=America/New_York:20250913T110000
DTEND;TZID=America/New_York:20250913T150000
DTSTAMP:20260419T131018
CREATED:20250905T010740Z
LAST-MODIFIED:20250905T010740Z
UID:11278-1757761200-1757775600@www.wildflowervegan.com
SUMMARY:34th Annual Downtown Millville Car Show
DESCRIPTION:CITY OF MILLVILLE- Hosted by the City of Millville. Free to all car participants. Registration begins at 9am. All makes and models welcomed. First 100 participants to pre-register online receive a free t-shirt. Best of show winner’s car will be featured on the 2026 t-shirt. Food and refreshments\, music and more. \nWhen:\nSEP 13\, 2025\n11am – 3pm\nWhere:\nCity of Millville\nHigh Street\, Main Street to Broad Street\nMillville\, New Jersey 08332\nMore Info:\nPhone: 856-825-7000\nWeb Address: www.millvillenj.gov\nEmail: Samantha.Cruz@millvillenj.gov
URL:https://www.wildflowervegan.com/event/34th-annual-downtown-millville-car-show/
LOCATION:NJ
ATTACH;FMTTYPE=image/jpeg:https://www.wildflowervegan.com/wp-content/uploads/2025/09/1747397586-2-city-of-millville-car-show.jpg
END:VEVENT
END:VCALENDAR