BEGIN:VCALENDAR
VERSION:2.0
PRODID:-//Wildflower Vegan Café - ECPv6.15.20//NONSGML v1.0//EN
CALSCALE:GREGORIAN
METHOD:PUBLISH
X-WR-CALNAME:Wildflower Vegan Café
X-ORIGINAL-URL:https://www.wildflowervegan.com
X-WR-CALDESC:Events for Wildflower Vegan Café
REFRESH-INTERVAL;VALUE=DURATION:PT1H
X-Robots-Tag:noindex
X-PUBLISHED-TTL:PT1H
BEGIN:VTIMEZONE
TZID:America/New_York
BEGIN:DAYLIGHT
TZOFFSETFROM:-0500
TZOFFSETTO:-0400
TZNAME:EDT
DTSTART:20230312T070000
END:DAYLIGHT
BEGIN:STANDARD
TZOFFSETFROM:-0400
TZOFFSETTO:-0500
TZNAME:EST
DTSTART:20231105T060000
END:STANDARD
BEGIN:DAYLIGHT
TZOFFSETFROM:-0500
TZOFFSETTO:-0400
TZNAME:EDT
DTSTART:20240310T070000
END:DAYLIGHT
BEGIN:STANDARD
TZOFFSETFROM:-0400
TZOFFSETTO:-0500
TZNAME:EST
DTSTART:20241103T060000
END:STANDARD
BEGIN:DAYLIGHT
TZOFFSETFROM:-0500
TZOFFSETTO:-0400
TZNAME:EDT
DTSTART:20250309T070000
END:DAYLIGHT
BEGIN:STANDARD
TZOFFSETFROM:-0400
TZOFFSETTO:-0500
TZNAME:EST
DTSTART:20251102T060000
END:STANDARD
END:VTIMEZONE
BEGIN:VEVENT
DTSTART;TZID=America/New_York:20241207T163000
DTEND;TZID=America/New_York:20241207T190000
DTSTAMP:20260419T100014
CREATED:20241127T014017Z
LAST-MODIFIED:20241127T014017Z
UID:10849-1733589000-1733598000@www.wildflowervegan.com
SUMMARY:Live Music
DESCRIPTION:Local musicians\, open jam
URL:https://www.wildflowervegan.com/event/live-music-2/
LOCATION:Wildflower Vegan Cafe\, 501 N. High St.\, Millville\, NJ\, 08332\, United States
ATTACH;FMTTYPE=image/jpeg:https://www.wildflowervegan.com/wp-content/uploads/2024/11/468083308_1058128806324169_7150070377626934273_n.jpg
END:VEVENT
END:VCALENDAR